BEGIN:VCALENDAR
VERSION:2.0
PRODID:-//DEMO Northern Delight - ECPv6.15.20//NONSGML v1.0//EN
CALSCALE:GREGORIAN
METHOD:PUBLISH
X-WR-CALNAME:DEMO Northern Delight
X-ORIGINAL-URL:https://www.def.northerndelight.nl
X-WR-CALDESC:Evenementen voor DEMO Northern Delight
REFRESH-INTERVAL;VALUE=DURATION:PT1H
X-Robots-Tag:noindex
X-PUBLISHED-TTL:PT1H
BEGIN:VTIMEZONE
TZID:Europe/Paris
BEGIN:DAYLIGHT
TZOFFSETFROM:+0100
TZOFFSETTO:+0200
TZNAME:CEST
DTSTART:20250330T010000
END:DAYLIGHT
BEGIN:STANDARD
TZOFFSETFROM:+0200
TZOFFSETTO:+0100
TZNAME:CET
DTSTART:20251026T010000
END:STANDARD
BEGIN:DAYLIGHT
TZOFFSETFROM:+0100
TZOFFSETTO:+0200
TZNAME:CEST
DTSTART:20260329T010000
END:DAYLIGHT
BEGIN:STANDARD
TZOFFSETFROM:+0200
TZOFFSETTO:+0100
TZNAME:CET
DTSTART:20261025T010000
END:STANDARD
BEGIN:DAYLIGHT
TZOFFSETFROM:+0100
TZOFFSETTO:+0200
TZNAME:CEST
DTSTART:20270328T010000
END:DAYLIGHT
BEGIN:STANDARD
TZOFFSETFROM:+0200
TZOFFSETTO:+0100
TZNAME:CET
DTSTART:20271031T010000
END:STANDARD
END:VTIMEZONE
BEGIN:VEVENT
DTSTART;TZID=Europe/Paris:20260505T080000
DTEND;TZID=Europe/Paris:20260505T170000
DTSTAMP:20260420T100611
CREATED:20260312T202143Z
LAST-MODIFIED:20260331T013820Z
UID:2389-1777968000-1778000400@www.def.northerndelight.nl
SUMMARY:start van de website
DESCRIPTION:Zondag 15 maart geef ik een Zweedse workshop in het teken van brood bakken. Wij bakken samen in groepen van 2 personen drie soorten brood. Verder maken we ons eigen boter en koken we sinaasappelmarmelade\,  \n\n\n\nWe sluiten de workshop af met een korte proeverij van alles wat wij gebakken en gemaakt hebben. Alles wat overblijft\, gaat mee naar huis. \n\n\n\n\n\n\n\n\n\n\n\n\n\n\n\n\n\n\n\nWat gaan we maken:\n\n\n\n\nkavring; een donker brood met smaak van donkere stroop & karnemelk\n\n\n\nbolletjes met lijnzaad en havermout\n\n\n\nknäckebröd met smaak van karwij\, anijs- en venkelzaad\n\n\n\nhuisgemaakte boter met individuele smaaktoevoeging\n\n\n\nsinaasappelmarmelade\n\n\n\n\n Inclusief in de workshop:\n\n\n\n\nwelkomstdrankje en hartig hapje\n\n\n\nuitleg en begeleiding van het bereiden van de Zweedse broden\, boter en marmelade\n\n\n\nkoffie/thee/fris tijdens de workshop en de afsluitende proeverij\n\n\n\nresterende brood\, boter & een potje sinaasappelmarmelade mee naar huis\n\n\n\nalle recepten in pdf-formaat via e-mail na de workshop\n\n\n\n\nDe workshop start om 13.00 uur en duurt tot ongeveer 17.00 uur. Bekijk hier foto’s van de “kafferep”-workshop \n\n\n\nDe locatie is mijn productiekeuken op De Liesbosch 24\, 3439 LC Nieuwegein. Dit is vlak bij afslag 18 (Houten) op de A12. Er is gratis parkeren binnen 75 m van de keuken. \n\n\n\nMin. 6 en max. 10 deelnemers. Kosten zijn € 65 (inclusief 9% btw) per persoon. \n\n\n\nAanmelding uiterlijk op vrijdag 6 maart\, 2026. Als je met meer dan 4 personen wilt deelnemen\, als je een cadeaubon wilt gebruiken of als je een zakelijke factuur wilt ontvangen voor jouw deelname; neem dan contact op via info@northerndelight.nl \n\n\n\nWelkom! \n\n\naasas
URL:https://www.def.northerndelight.nl/evenementen/start-van-de-website/
LOCATION:Park\, livingstonelaan 488\, Utrecht\, Utrecht\, 3552vk\, Netherlands
ATTACH;FMTTYPE=image/jpeg:https://www.def.northerndelight.nl/uploads/2014/01/Ingrid-8-2-klein-vierkant.jpg
END:VEVENT
END:VCALENDAR